BEGIN:VCALENDAR
VERSION:2.0
PRODID:-//Plone.org//NONSGML plone.app.event//EN
X-WR-TIMEZONE:Europe/Paris
BEGIN:VEVENT
SUMMARY:Soirée soupe et pomme.
DTSTART;TZID=Europe/Paris;VALUE=DATE-TIME:20260327T193000
DTEND;TZID=Europe/Paris;VALUE=DATE-TIME:20260327T223000
DTSTAMP;VALUE=DATE-TIME:20260420T043136Z
UID:94a372b2aaf94819995142286b0ab2e7@www.diocese50.fr
CREATED;VALUE=DATE-TIME:20260226T134747Z
LAST-MODIFIED;VALUE=DATE-TIME:20260319T094557Z
LOCATION:Centre Saint Pie X 47 rue Ferdinand Buisson   EQUEURDREVILLE
URL:https://www.diocese50.fr/les-paroisses-et-les-doyennes/saint-sauveur-d
 octeville-nouainville/soiree-soupe-et-pomme
END:VEVENT
BEGIN:VTIMEZONE
TZID:Europe/Paris
X-LIC-LOCATION:Europe/Paris
BEGIN:STANDARD
DTSTART;VALUE=DATE-TIME:20251026T020000
TZNAME:CET
TZOFFSETFROM:+0200
TZOFFSETTO:+0100
END:STANDARD
END:VTIMEZONE
END:VCALENDAR
