BEGIN:VCALENDAR
VERSION:2.0
PRODID:-//Plone.org//NONSGML plone.app.event//EN
X-WR-TIMEZONE:Europe/Paris
BEGIN:VEVENT
SUMMARY:Répétition chorale
DTSTART;TZID=Europe/Paris;VALUE=DATE-TIME:20260302T200000
DTEND;TZID=Europe/Paris;VALUE=DATE-TIME:20260302T213000
DTSTAMP;VALUE=DATE-TIME:20260420T025230Z
UID:3bcaea6cfb8f4753b8cece8786e179ab@www.diocese50.fr
CREATED;VALUE=DATE-TIME:20260226T135708Z
LAST-MODIFIED;VALUE=DATE-TIME:20260226T135916Z
LOCATION:Salle de l'Oasis (sous l'église St Pierre - St Paul)
URL:https://www.diocese50.fr/les-paroisses-et-les-doyennes/saint-sauveur-d
 octeville-nouainville/repetition-chorale
END:VEVENT
BEGIN:VTIMEZONE
TZID:Europe/Paris
X-LIC-LOCATION:Europe/Paris
BEGIN:STANDARD
DTSTART;VALUE=DATE-TIME:20251026T020000
TZNAME:CET
TZOFFSETFROM:+0200
TZOFFSETTO:+0100
END:STANDARD
END:VTIMEZONE
END:VCALENDAR
