BEGIN:VCALENDAR
VERSION:2.0
PRODID:-//Plone.org//NONSGML plone.app.event//EN
X-WR-TIMEZONE:Europe/Paris
BEGIN:VEVENT
SUMMARY:Quête dominicale
DTSTART;TZID=Europe/Paris;VALUE=DATE-TIME:20260426T103000
DTEND;TZID=Europe/Paris;VALUE=DATE-TIME:20260426T113000
DTSTAMP;VALUE=DATE-TIME:20260423T194302Z
UID:3b7b079986664d9db2b4a46a5777774f@www.diocese50.fr
CREATED;VALUE=DATE-TIME:20260423T140308Z
LAST-MODIFIED;VALUE=DATE-TIME:20260423T140412Z
LOCATION:Eglise Saint Pierre - Saint Paul
URL:https://www.diocese50.fr/les-paroisses-et-les-doyennes/saint-sauveur-d
 octeville-nouainville/quete-dominicale
END:VEVENT
BEGIN:VTIMEZONE
TZID:Europe/Paris
X-LIC-LOCATION:Europe/Paris
BEGIN:DAYLIGHT
DTSTART;VALUE=DATE-TIME:20260329T030000
TZNAME:CEST
TZOFFSETFROM:+0100
TZOFFSETTO:+0200
END:DAYLIGHT
END:VTIMEZONE
END:VCALENDAR
