BEGIN:VCALENDAR
VERSION:2.0
PRODID:-//Plone.org//NONSGML plone.app.event//EN
X-WR-TIMEZONE:Europe/Paris
BEGIN:VEVENT
SUMMARY:Préparation soirée " bol de Solidarité".
DTSTART;TZID=Europe/Paris;VALUE=DATE-TIME:20260224T203000
DTEND;TZID=Europe/Paris;VALUE=DATE-TIME:20260224T223000
DTSTAMP;VALUE=DATE-TIME:20260420T074052Z
UID:266768e4c8c941c1a2677ae4888dab43@www.diocese50.fr
CREATED;VALUE=DATE-TIME:20260222T191536Z
LAST-MODIFIED;VALUE=DATE-TIME:20260222T192026Z
LOCATION:Centre Saint Pie X 47 rue Ferdinand Buisson EQUEURDREVILLE
URL:https://www.diocese50.fr/les-paroisses-et-les-doyennes/saint-sauveur-d
 octeville-nouainville/preparation-soiree-bol-de-solidarite
END:VEVENT
BEGIN:VTIMEZONE
TZID:Europe/Paris
X-LIC-LOCATION:Europe/Paris
BEGIN:STANDARD
DTSTART;VALUE=DATE-TIME:20251026T020000
TZNAME:CET
TZOFFSETFROM:+0200
TZOFFSETTO:+0100
END:STANDARD
END:VTIMEZONE
END:VCALENDAR
