BEGIN:VCALENDAR
VERSION:2.0
PRODID:-//Plone.org//NONSGML plone.app.event//EN
X-WR-TIMEZONE:Europe/Paris
BEGIN:VEVENT
SUMMARY:Préparation Sacrement de réconciliation.
DTSTART;TZID=Europe/Paris;VALUE=DATE-TIME:20260225T203000
DTEND;TZID=Europe/Paris;VALUE=DATE-TIME:20260225T223000
DTSTAMP;VALUE=DATE-TIME:20260420T061711Z
UID:5099ad148429493aaa560c61fd0f11bb@www.diocese50.fr
CREATED;VALUE=DATE-TIME:20260222T192818Z
LAST-MODIFIED;VALUE=DATE-TIME:20260222T193051Z
LOCATION:Centre Saint Pie X 47 rue Ferdinand Buisson EQUEURDREVILLE
URL:https://www.diocese50.fr/les-paroisses-et-les-doyennes/saint-sauveur-d
 octeville-nouainville/preparation-sacrement-de-reconciliation
END:VEVENT
BEGIN:VTIMEZONE
TZID:Europe/Paris
X-LIC-LOCATION:Europe/Paris
BEGIN:STANDARD
DTSTART;VALUE=DATE-TIME:20251026T020000
TZNAME:CET
TZOFFSETFROM:+0200
TZOFFSETTO:+0100
END:STANDARD
END:VTIMEZONE
END:VCALENDAR
