BEGIN:VCALENDAR
VERSION:2.0
PRODID:-//Plone.org//NONSGML plone.app.event//EN
X-WR-TIMEZONE:Europe/Paris
BEGIN:VEVENT
SUMMARY:Préparation première communion.
DTSTART;TZID=Europe/Paris;VALUE=DATE-TIME:20260307T100000
DTEND;TZID=Europe/Paris;VALUE=DATE-TIME:20260307T160000
DTSTAMP;VALUE=DATE-TIME:20260419T233358Z
UID:c92d782a6d9544fa9e54d899869d1df6@www.diocese50.fr
ATTENDEE;CN="Enfants qui se préparent à leur première communion.";ROLE=
 REQ-PARTICIPANT:Enfants qui se préparent à leur première communion.
CREATED;VALUE=DATE-TIME:20260226T141810Z
LAST-MODIFIED;VALUE=DATE-TIME:20260226T142226Z
LOCATION:Salle de l'Oasis (sous l'église St Pierre - St Paul)
URL:https://www.diocese50.fr/les-paroisses-et-les-doyennes/saint-sauveur-d
 octeville-nouainville/preparation-premiere-communion-2
END:VEVENT
BEGIN:VTIMEZONE
TZID:Europe/Paris
X-LIC-LOCATION:Europe/Paris
BEGIN:STANDARD
DTSTART;VALUE=DATE-TIME:20251026T020000
TZNAME:CET
TZOFFSETFROM:+0200
TZOFFSETTO:+0100
END:STANDARD
END:VTIMEZONE
END:VCALENDAR
