BEGIN:VCALENDAR
VERSION:2.0
PRODID:-//Plone.org//NONSGML plone.app.event//EN
X-WR-TIMEZONE:Europe/Paris
BEGIN:VEVENT
SUMMARY:Parcours Confirmation.
DTSTART;TZID=Europe/Paris;VALUE=DATE-TIME:20260306T183000
DTEND;TZID=Europe/Paris;VALUE=DATE-TIME:20260306T213000
DTSTAMP;VALUE=DATE-TIME:20260420T011550Z
UID:9353cedc706e4aa980dfa0a86c23dfae@www.diocese50.fr
ATTENDEE;CN="- Jeunes qui se préparent au sacrement de Confirmation.";ROL
 E=REQ-PARTICIPANT:- Jeunes qui se préparent au sacrement de Confirmation.
CREATED;VALUE=DATE-TIME:20260226T141134Z
LAST-MODIFIED;VALUE=DATE-TIME:20260305T132923Z
LOCATION:Salle de l'Oasis (sous l'église St Pierre - St Paul)
URL:https://www.diocese50.fr/les-paroisses-et-les-doyennes/saint-sauveur-d
 octeville-nouainville/parcours-confirmation
END:VEVENT
BEGIN:VTIMEZONE
TZID:Europe/Paris
X-LIC-LOCATION:Europe/Paris
BEGIN:STANDARD
DTSTART;VALUE=DATE-TIME:20251026T020000
TZNAME:CET
TZOFFSETFROM:+0200
TZOFFSETTO:+0100
END:STANDARD
END:VTIMEZONE
END:VCALENDAR
