BEGIN:VCALENDAR
VERSION:2.0
PRODID:-//Plone.org//NONSGML plone.app.event//EN
X-WR-TIMEZONE:Europe/Paris
BEGIN:VEVENT
SUMMARY:Ménage de nos églises.
DTSTART;TZID=Europe/Paris;VALUE=DATE-TIME:20260430T090000
DTEND;TZID=Europe/Paris;VALUE=DATE-TIME:20260430T103000
DTSTAMP;VALUE=DATE-TIME:20260423T153718Z
UID:8c9380ee998244d8adf8b363ac0605ab@www.diocese50.fr
ATTENDEE;CN="- Toutes les bonnes volontés sont les bienvenu(es) !!";ROLE=
 REQ-PARTICIPANT:- Toutes les bonnes volontés sont les bienvenu(es) !!
CREATED;VALUE=DATE-TIME:20260423T100647Z
LAST-MODIFIED;VALUE=DATE-TIME:20260423T100719Z
LOCATION:Eglise Saint-Martin Rue Général de Gaule 50130 CHERBOURG
URL:https://www.diocese50.fr/les-paroisses-et-les-doyennes/saint-sauveur-d
 octeville-nouainville/menage-de-nos-eglises
END:VEVENT
BEGIN:VTIMEZONE
TZID:Europe/Paris
X-LIC-LOCATION:Europe/Paris
BEGIN:DAYLIGHT
DTSTART;VALUE=DATE-TIME:20260329T030000
TZNAME:CEST
TZOFFSETFROM:+0100
TZOFFSETTO:+0200
END:DAYLIGHT
END:VTIMEZONE
END:VCALENDAR
