BEGIN:VCALENDAR
VERSION:2.0
PRODID:-//Plone.org//NONSGML plone.app.event//EN
X-WR-TIMEZONE:Europe/Paris
BEGIN:VEVENT
SUMMARY:Lecture oœcuménique trimestrielle
DTSTART;TZID=Europe/Paris;VALUE=DATE-TIME:20260303T200000
DTEND;TZID=Europe/Paris;VALUE=DATE-TIME:20260303T223000
DTSTAMP;VALUE=DATE-TIME:20260420T090423Z
UID:b2ad692ddabd42b0971dc90d5cfa64b4@www.diocese50.fr
CREATED;VALUE=DATE-TIME:20260220T104129Z
LAST-MODIFIED;VALUE=DATE-TIME:20260226T135056Z
LOCATION:Auberge de jeunesse 55 rue de l'abbaye CHERBOURG
URL:https://www.diocese50.fr/les-paroisses-et-les-doyennes/saint-sauveur-d
 octeville-nouainville/lecture-oeucumenique-trimestrielle
END:VEVENT
BEGIN:VTIMEZONE
TZID:Europe/Paris
X-LIC-LOCATION:Europe/Paris
BEGIN:STANDARD
DTSTART;VALUE=DATE-TIME:20251026T020000
TZNAME:CET
TZOFFSETFROM:+0200
TZOFFSETTO:+0100
END:STANDARD
END:VTIMEZONE
END:VCALENDAR
