BEGIN:VCALENDAR
VERSION:2.0
PRODID:-//Plone.org//NONSGML plone.app.event//EN
X-WR-TIMEZONE:Europe/Paris
BEGIN:VEVENT
SUMMARY:Appel décisif des jeunes
DTSTART;TZID=Europe/Paris;VALUE=DATE-TIME:20260301T143000
DTSTAMP;VALUE=DATE-TIME:20260419T214552Z
UID:93c3407925c84ab4aaea42c4ffe77955@www.diocese50.fr
ATTENDEE;CN="Toutes les personnes qui vont se faire baptiser cette année.
 ";ROLE=REQ-PARTICIPANT:Toutes les personnes qui vont se faire baptiser cet
 te année.
CREATED;VALUE=DATE-TIME:20260226T143318Z
LAST-MODIFIED;VALUE=DATE-TIME:20260226T143925Z
LOCATION:Cathédrale Notre-Dame de Coutances
URL:https://www.diocese50.fr/les-paroisses-et-les-doyennes/saint-sauveur-d
 octeville-nouainville/appel-decisif-des-jeunes
END:VEVENT
BEGIN:VTIMEZONE
TZID:Europe/Paris
X-LIC-LOCATION:Europe/Paris
BEGIN:STANDARD
DTSTART;VALUE=DATE-TIME:20251026T020000
TZNAME:CET
TZOFFSETFROM:+0200
TZOFFSETTO:+0100
END:STANDARD
END:VTIMEZONE
END:VCALENDAR
