BEGIN:VCALENDAR
VERSION:2.0
PRODID:-//Plone.org//NONSGML plone.app.event//EN
X-WR-TIMEZONE:Europe/Paris
BEGIN:VEVENT
SUMMARY:Rencontre pour l'accompagnement des familles en deuil
DTSTART;TZID=Europe/Paris;VALUE=DATE-TIME:20260430T163000
DTEND;TZID=Europe/Paris;VALUE=DATE-TIME:20260430T180000
DTSTAMP;VALUE=DATE-TIME:20260425T132716Z
UID:ee69d682a6b945faadc15172a1ffe832@www.diocese50.fr
CREATED;VALUE=DATE-TIME:20260425T064658Z
LAST-MODIFIED;VALUE=DATE-TIME:20260425T065055Z
LOCATION:L'Oasis à OCTEVILLE
URL:https://www.diocese50.fr/les-paroisses-et-les-doyennes/saint-jean-23-d
 e-cherbourg-la-glacerie/agenda/rencontre-pour-laccompagnement-des-familles
 -en-deuil
END:VEVENT
BEGIN:VTIMEZONE
TZID:Europe/Paris
X-LIC-LOCATION:Europe/Paris
BEGIN:DAYLIGHT
DTSTART;VALUE=DATE-TIME:20260329T030000
TZNAME:CEST
TZOFFSETFROM:+0100
TZOFFSETTO:+0200
END:DAYLIGHT
END:VTIMEZONE
END:VCALENDAR
