BEGIN:VCALENDAR
VERSION:2.0
PRODID:-//Plone.org//NONSGML plone.app.event//EN
X-WR-TIMEZONE:Europe/Paris
BEGIN:VEVENT
SUMMARY:Retraite de profession de foi
DTSTART;VALUE=DATE:20260430
DTEND;VALUE=DATE:20260503
DTSTAMP;VALUE=DATE-TIME:20260424T191315Z
UID:7593213f5abb4cbc8d71fbc7a65a18c8@www.diocese50.fr
ATTENDEE;CN="Les sixièmes des collèges publics et privés.";ROLE=REQ-PAR
 TICIPANT:Les sixièmes des collèges publics et privés.
CREATED;VALUE=DATE-TIME:20260424T132322Z
DESCRIPTION:Les 6e des paroisses d'Avranches\, Brécey et Ducey vivront un
 e retraite de profession de foi à l'Abbaye des Sœurs de Saint Sauveur le
  Vicomte.
LAST-MODIFIED;VALUE=DATE-TIME:20260424T132331Z
LOCATION:Abbaye de Saint Sauveur le Vicomte
URL:https://www.diocese50.fr/les-paroisses-et-les-doyennes/saint-aubert-da
 vranches/agenda/retraite-de-profession-de-foi
END:VEVENT
END:VCALENDAR
