BEGIN:VCALENDAR
VERSION:2.0
PRODID:-//Plone.org//NONSGML plone.app.event//EN
X-WR-TIMEZONE:Europe/Paris
BEGIN:VEVENT
SUMMARY:Session Vivre et Aimer « Amour et Engagement »
DTSTART;TZID=Europe/Paris;VALUE=DATE-TIME:20260306T200000
DTEND;TZID=Europe/Paris;VALUE=DATE-TIME:20260308T180000
DTSTAMP;VALUE=DATE-TIME:20260422T104831Z
UID:5beb77edfc49479f94e6e402b56b86c7@www.diocese50.fr
ATTENDEE;CN="Tous les couples, mariés ou non, croyants ou non, qui souhai
 tent prendre soin de leur relation et la renforcer dans la durée.";ROLE=R
 EQ-PARTICIPANT:Tous les couples, mariés ou non, croyants ou non, qui souh
 aitent prendre soin de leur relation et la renforcer dans la durée.
CONTACT:Bernadette et Jean-Claude Salot-Pons\, 06 71 94 62 75
CREATED;VALUE=DATE-TIME:20260224T101027Z
DESCRIPTION:Une session AMOUR ET ENGAGEMENT organisée par Vivre et Aimer 
 aura lieu du vendredi 6 mars soir au dimanche 8 mars à Lisieux (14)
LAST-MODIFIED;VALUE=DATE-TIME:20260224T105656Z
LOCATION: Ermitage Sainte Thérèse | 23 Rue du Carmel | 14100 Lisieux
URL:https://www.diocese50.fr/agenda/session-vivre-et-aimer-amour-et-Engage
 ment
END:VEVENT
BEGIN:VTIMEZONE
TZID:Europe/Paris
X-LIC-LOCATION:Europe/Paris
BEGIN:STANDARD
DTSTART;VALUE=DATE-TIME:20251026T020000
TZNAME:CET
TZOFFSETFROM:+0200
TZOFFSETTO:+0100
END:STANDARD
END:VTIMEZONE
END:VCALENDAR
